BEGIN:VCALENDAR
VERSION:2.0
PRODID:-//ChamberMaster//Event Calendar 2.0//EN
METHOD:PUBLISH
X-PUBLISHED-TTL:P3D
REFRESH-INTERVAL:P3D
CALSCALE:GREGORIAN
BEGIN:VEVENT
DTSTART:20191218T123000Z
DTEND:20191218T140000Z
X-MICROSOFT-CDO-ALLDAYEVENT:FALSE
SUMMARY:Why Digital Compliance Matters
DESCRIPTION:According to the Americans with Disabilities Act (ADA) your business is required by law to remove any "access barriers" that would inhibit a person with disabilities from accessing it. This includes your website. Join the Dick Pope/Polk County Florida Public Relations Association chapter as Steve Barshov\, the founder and CEO of DigiPro Media shares the history of digital accessibility compliance\, why it matters\, and how organizations can mitigate the risk of a digital accessibility lawsuit.
X-ALT-DESC;FMTTYPE=text/html:According to the Americans with Disabilities Act (ADA) your business is required by law to remove any &ldquo\;access barriers&rdquo\; that would inhibit a person with disabilities from accessing it. This includes your website. Join the Dick Pope/Polk County Florida Public Relations Association chapter as Steve Barshov\, the founder and CEO of DigiPro Media shares the history of digital accessibility compliance\, why it matters\, and how organizations can mitigate the risk of a digital accessibility lawsuit.
LOCATION:Terrace Hotel Ballroom\, 329 E Main St\, Lakeland\, FL 33801
UID:e.3457.503
SEQUENCE:3
DTSTAMP:20260421T023850Z
URL:http://bartowchamberfl.chambermaster.com/events/details/why-digital-compliance-matters-503
END:VEVENT

END:VCALENDAR
