BEGIN:VCALENDAR
VERSION:2.0
PRODID:-//ChamberMaster//Event Calendar 2.0//EN
METHOD:PUBLISH
X-PUBLISHED-TTL:P3D
REFRESH-INTERVAL:P3D
CALSCALE:GREGORIAN
BEGIN:VEVENT
DTSTART:20200409T200000Z
DTEND:20200409T213000Z
X-MICROSOFT-CDO-ALLDAYEVENT:FALSE
SUMMARY:We're Better Together Virtual Networking Event
DESCRIPTION:Join the Greater Bartow Chamber of Commerce\, the Mulberry Chamber of Commerce and BRIDGE Local in a collaborative networking event designed to bring businesses across several communities together to expand our networks\, find common ground and spend time focusing on how we can work together to keep the lights for small businesses on during this challenging time.\n\n\n\nAgenda:\n\nEach attendee will have the opportunity to share a win or something they are doing during this time\, they will continue to do once we are on the other side of this global crisis. \n\n\n\nAdditionally\, attendees will be given the opportunity to share the biggest challenge or question they have right now. We will compile a list of these questions and work to find the needed resources or solutions\, if any exist. \n\n\n\nWe understand that many people find it difficult to discuss their struggles unless given the full opportunity to do so and they must know that we are indeed all in this together and it is our hope that we can draw on the strengths of our community and give our community a sense of solidarity and prove that we ARE BETTER Together!
X-ALT-DESC;FMTTYPE=text/html:<span style="font-family:tahoma\;"><span style="color: rgb(29\, 33\, 41)\; font-size: 14px\; white-space: pre-wrap\;">Join the </span><a href="https://www.facebook.com/BartowChamberofCommerce/" style="color: rgb(56\, 88\, 152)\; cursor: pointer\; text-decoration-line: none\; font-family: Helvetica\, Arial\, sans-serif\; font-size: 14px\; white-space: pre-wrap\;" target="_blank">Greater Bartow Chamber of Commerce</a><span style="color: rgb(29\, 33\, 41)\; font-size: 14px\; white-space: pre-wrap\;">\, the </span><a href="https://www.facebook.com/Mulberry-Chamber-of-Commerce-360132160920/" style="color: rgb(56\, 88\, 152)\; cursor: pointer\; font-family: Helvetica\, Arial\, sans-serif\; font-size: 14px\; white-space: pre-wrap\;" target="_blank">Mulberry Chamber of Commerce</a><span style="color: rgb(29\, 33\, 41)\; font-size: 14px\; white-space: pre-wrap\;"> and BRIDGE Local in a collaborative networking event designed to bring businesses across several communities together to expand our networks\, find common ground and spend time focusing on how we can work together to keep the lights for small businesses on during this challenging time.</span></span><br style="color: rgb(29\, 33\, 41)\; font-family: Helvetica\, Arial\, sans-serif\; font-size: 14px\; white-space: pre-wrap\;" />\n<br style="color: rgb(29\, 33\, 41)\; font-family: Helvetica\, Arial\, sans-serif\; font-size: 14px\; white-space: pre-wrap\;" />\n<span style="color: rgb(29\, 33\, 41)\; font-family: Helvetica\, Arial\, sans-serif\; font-size: 14px\; white-space: pre-wrap\;">Agenda:</span><br style="color: rgb(29\, 33\, 41)\; font-family: Helvetica\, Arial\, sans-serif\; font-size: 14px\; white-space: pre-wrap\;" />\n<span style="color: rgb(29\, 33\, 41)\; font-family: Helvetica\, Arial\, sans-serif\; font-size: 14px\; white-space: pre-wrap\;">Each attendee will have the opportunity to share a win or something they are doing during this time\, they will continue to do once we are on the other side of this global crisis. </span><br style="color: rgb(29\, 33\, 41)\; font-family: Helvetica\, Arial\, sans-serif\; font-size: 14px\; white-space: pre-wrap\;" />\n<br style="color: rgb(29\, 33\, 41)\; font-family: Helvetica\, Arial\, sans-serif\; font-size: 14px\; white-space: pre-wrap\;" />\n<span style="color: rgb(29\, 33\, 41)\; font-family: Helvetica\, Arial\, sans-serif\; font-size: 14px\; white-space: pre-wrap\;">Additionally\, attendees will be given the opportunity to share the biggest challenge or question they have right now. We will compile a list of these questions and work to find the needed resources or solutions\, if any exist. </span><br style="color: rgb(29\, 33\, 41)\; font-family: Helvetica\, Arial\, sans-serif\; font-size: 14px\; white-space: pre-wrap\;" />\n<br style="color: rgb(29\, 33\, 41)\; font-family: Helvetica\, Arial\, sans-serif\; font-size: 14px\; white-space: pre-wrap\;" />\n<span style="color: rgb(29\, 33\, 41)\; font-family: Helvetica\, Arial\, sans-serif\; font-size: 14px\; white-space: pre-wrap\;">We understand that many people find it difficult to discuss their struggles unless given the full opportunity to do so and they must know that we are indeed all in this together and it is our hope that we can draw on the strengths of our community and give our community a sense of solidarity and prove that we ARE BETTER Together! </span>
LOCATION:Join Zoom Meeting https://zoom.us/j/101721481 Meeting ID: 101 721 481 One tap mobile +16468769923\,\,101721481# US (New York) +13126266799\,\,101721481# US (Chicago) Dial by your location +1 646 876 9923 US (New York) +1 312 626 6799 US (Chicago) +1 669 900 6833 US (San Jose) +1 253 215 8782 US +1 301 715 8592 US +1 346 248 7799 US (Houston) Meeting ID: 101 721 481 Find your local number: https://zoom.us/u/adoPiWrMf
UID:e.3457.1149
SEQUENCE:3
DTSTAMP:20260423T015758Z
URL:http://bartowchamberfl.chambermaster.com/events/details/we-re-better-together-virtual-networking-event-1149
END:VEVENT

END:VCALENDAR
