BEGIN:VCALENDAR
VERSION:2.0
PRODID:-//ChamberMaster//Event Calendar 2.0//EN
METHOD:PUBLISH
X-PUBLISHED-TTL:P3D
REFRESH-INTERVAL:P3D
CALSCALE:GREGORIAN
BEGIN:VEVENT
DTSTART:20200618T200000Z
DTEND:20200618T210000Z
X-MICROSOFT-CDO-ALLDAYEVENT:FALSE
SUMMARY:We're Better Together Mastermind Edition #4
DESCRIPTION:Ready to Mastermind? Join Bridge Local\, the Greater Bartow Chamber of Commerce\, and the Greater Mulberry Chamber of Commerce for the third edition of our Better Together Mastermind\, a collaborative discussion designed to:\n\n\n\n- Bring businesses across several communities together to expand our networks.\n\n\n\n- Spend time focusing on how we can work together to keep the lights for small businesses on during this challenging time.\n\n\n\n- Find common ground among all attendees.\n\n\n\nAre you familiar with the power of Masterminding? We often crave a deeper connection with others who recognize the challenges of business ownership\, growth\, sales\, research and development\, employee retention\, and balancing all of this with personal lives\, families and children.\n\n\n\nJoin us in this Zoom meeting to learn a little more about what the power of Masterminding has to offer a small business community like ours.
X-ALT-DESC;FMTTYPE=text/html:<span style="color: rgb(29\, 33\, 41)\; font-family: Helvetica\, Arial\, sans-serif\; font-size: 14px\; white-space: pre-wrap\;">Ready to Mastermind? Join </span><a href="https://www.facebook.com/BRIDGELocal/" style="color: rgb(56\, 88\, 152)\; cursor: pointer\; text-decoration-line: none\; font-family: Helvetica\, Arial\, sans-serif\; font-size: 14px\; white-space: pre-wrap\;" target="_blank">Bridge Local</a><span style="color: rgb(29\, 33\, 41)\; font-family: Helvetica\, Arial\, sans-serif\; font-size: 14px\; white-space: pre-wrap\;">\, the </span><a href="https://www.facebook.com/BartowChamberofCommerce/" style="color: rgb(56\, 88\, 152)\; cursor: pointer\; text-decoration-line: none\; font-family: Helvetica\, Arial\, sans-serif\; font-size: 14px\; white-space: pre-wrap\;" target="_blank">Greater Bartow Chamber of Commerce</a><span style="color: rgb(29\, 33\, 41)\; font-family: Helvetica\, Arial\, sans-serif\; font-size: 14px\; white-space: pre-wrap\;">\, and the Greater </span><a href="https://www.facebook.com/Mulberry-Chamber-of-Commerce-360132160920/" style="color: rgb(56\, 88\, 152)\; cursor: pointer\; text-decoration-line: none\; font-family: Helvetica\, Arial\, sans-serif\; font-size: 14px\; white-space: pre-wrap\;" target="_blank">Mulberry Chamber of Commerce</a><span style="color: rgb(29\, 33\, 41)\; font-family: Helvetica\, Arial\, sans-serif\; font-size: 14px\; white-space: pre-wrap\;"> for the third edition of our Better Together Mastermind\, a collaborative discussion designed to:</span><br style="color: rgb(29\, 33\, 41)\; font-family: Helvetica\, Arial\, sans-serif\; font-size: 14px\; white-space: pre-wrap\;" />\n<br style="color: rgb(29\, 33\, 41)\; font-family: Helvetica\, Arial\, sans-serif\; font-size: 14px\; white-space: pre-wrap\;" />\n<span style="color: rgb(29\, 33\, 41)\; font-family: Helvetica\, Arial\, sans-serif\; font-size: 14px\; white-space: pre-wrap\;">- Bring businesses across several communities together to expand our networks.</span><br style="color: rgb(29\, 33\, 41)\; font-family: Helvetica\, Arial\, sans-serif\; font-size: 14px\; white-space: pre-wrap\;" />\n<br style="color: rgb(29\, 33\, 41)\; font-family: Helvetica\, Arial\, sans-serif\; font-size: 14px\; white-space: pre-wrap\;" />\n<span style="color: rgb(29\, 33\, 41)\; font-family: Helvetica\, Arial\, sans-serif\; font-size: 14px\; white-space: pre-wrap\;">- Spend time focusing on how we can work together to keep the lights for small businesses on during this challenging time.</span><br style="color: rgb(29\, 33\, 41)\; font-family: Helvetica\, Arial\, sans-serif\; font-size: 14px\; white-space: pre-wrap\;" />\n<br style="color: rgb(29\, 33\, 41)\; font-family: Helvetica\, Arial\, sans-serif\; font-size: 14px\; white-space: pre-wrap\;" />\n<span style="color: rgb(29\, 33\, 41)\; font-family: Helvetica\, Arial\, sans-serif\; font-size: 14px\; white-space: pre-wrap\;">- Find common ground among all attendees.</span><br style="color: rgb(29\, 33\, 41)\; font-family: Helvetica\, Arial\, sans-serif\; font-size: 14px\; white-space: pre-wrap\;" />\n<br style="color: rgb(29\, 33\, 41)\; font-family: Helvetica\, Arial\, sans-serif\; font-size: 14px\; white-space: pre-wrap\;" />\n<span style="color: rgb(29\, 33\, 41)\; font-family: Helvetica\, Arial\, sans-serif\; font-size: 14px\; white-space: pre-wrap\;">Are you familiar with the power of Masterminding? We often crave a deeper connection with others who recognize the challenges of business ownership\, growth\, sales\, research and development\, employee retention\, and balancing all of this with personal lives\, families and children.</span><br style="color: rgb(29\, 33\, 41)\; font-family: Helvetica\, Arial\, sans-serif\; font-size: 14px\; white-space: pre-wrap\;" />\n<br style="color: rgb(29\, 33\, 41)\; font-family: Helvetica\, Arial\, sans-serif\; font-size: 14px\; white-space: pre-wrap\;" />\n<span style="color: rgb(29\, 33\, 41)\; font-family: Helvetica\, Arial\, sans-serif\; font-size: 14px\; white-space: pre-wrap\;">Join us in this Zoom meeting to learn a little more about what the power of Masterminding has to offer a small business community like ours.</span>
LOCATION:Topic: We're Better Together: Mastermind Edition #4 Time: Jun 18\, 2020 04:00 PM Eastern Time (US and Canada) Join Zoom Meeting https://us02web.zoom.us/j/86122939849 Meeting ID: 861 2293 9849 One tap mobile +16468769923\,\,86122939849# US (New York) +13017158592\,\,86122939849# US (Germantown) Dial by your location +1 646 876 9923 US (New York) +1 301 715 8592 US (Germantown) +1 312 626 6799 US (Chicago) +1 669 900 6833 US (San Jose) +1 253 215 8782 US (Tacoma) +1 346 248 7799 US (Houston) Meeting ID: 861 2293 9849 Find your local number: https://us02web.zoom.us/u/kgsd6dBs6
UID:e.3457.1161
SEQUENCE:3
DTSTAMP:20260425T000312Z
URL:http://bartowchamberfl.chambermaster.com/events/details/we-re-better-together-mastermind-edition-4-1161
END:VEVENT

END:VCALENDAR
