BEGIN:VCALENDAR
VERSION:2.0
PRODID:-//ChamberMaster//Event Calendar 2.0//EN
METHOD:PUBLISH
X-PUBLISHED-TTL:P3D
REFRESH-INTERVAL:P3D
CALSCALE:GREGORIAN
BEGIN:VEVENT
DTSTART:20200527T130000Z
DTEND:20200527T143000Z
X-MICROSOFT-CDO-ALLDAYEVENT:FALSE
SUMMARY:Virtual Professional Development Academy - Digital Networking
DESCRIPTION:DIGITAL NETWORKING\n\nAngel Suarez\n\n\n\n\n\nToday's world is defined by our social media presence\, both good and bad.  Take some time out of your day to learn how you can shape your digital footprint in the most positive way possible.
X-ALT-DESC;FMTTYPE=text/html:<div class="av-special-heading av-special-heading-h3 custom-color-heading blockquote modern-quote modern-centered  avia-builder-el-44  el_before_av_textblock  avia-builder-el-first  av-inherit-size " style="box-sizing: border-box\; margin: 0px\; padding: 0px 0px 10px\; border: 0px rgb(235\, 235\, 235)\; font-variant-numeric: inherit\; font-variant-east-asian: inherit\; font-stretch: inherit\; font-size: 22px\; line-height: inherit\; font-family: raleway\, HelveticaNeue\, &quot\;Helvetica Neue&quot\;\, Helvetica-Neue\, Helvetica\, Arial\, sans-serif\; vertical-align: baseline\; width: 334.922px\; clear: both\; position: relative\; text-align: center\; color: rgb(142\, 194\, 0)\;">\n<div class="av-subheading av-subheading_below av_custom_color " style="box-sizing: border-box\; margin: 0.3em 0px 0px\; padding: 0px\; border: 0px rgb(235\, 235\, 235)\; font-style: inherit\; font-variant: inherit\; font-weight: inherit\; font-stretch: inherit\; font-size: 15px\; line-height: 1.3em\; font-family: inherit\; vertical-align: baseline\; float: none\; opacity: 1 !important\;">\n<div class="av-special-heading av-special-heading-h3 custom-color-heading blockquote modern-quote modern-centered  avia-builder-el-50  el_before_av_textblock  avia-builder-el-first  av-inherit-size " style="box-sizing: border-box\; margin: 0px\; padding: 0px 0px 10px\; border: 0px rgb(235\, 235\, 235)\; font-variant-numeric: inherit\; font-variant-east-asian: inherit\; font-stretch: inherit\; font-size: 22px\; line-height: inherit\; font-family: raleway\, HelveticaNeue\, &quot\;Helvetica Neue&quot\;\, Helvetica-Neue\, Helvetica\, Arial\, sans-serif\; vertical-align: baseline\; width: 334.922px\; clear: both\; position: relative\; text-align: center\; color: rgb(142\, 194\, 0)\;">\n<div class="av-subheading av-subheading_below av_custom_color " style="box-sizing: border-box\; margin: 0.3em 0px 0px\; padding: 0px\; border: 0px rgb(235\, 235\, 235)\; font-style: inherit\; font-variant: inherit\; font-weight: inherit\; font-stretch: inherit\; font-size: 15px\; line-height: 1.3em\; font-family: inherit\; vertical-align: baseline\; float: none\; opacity: 1 !important\;">\n<p style="box-sizing: border-box\; margin: 0px\; padding: 0px\; border: 0px rgb(235\, 235\, 235)\; font: inherit\; vertical-align: baseline\;"><span class="event-subheading-green" style="box-sizing: border-box\; margin: 0px\; padding: 0px\; border: 0px rgb(235\, 235\, 235)\; font-style: inherit\; font-variant: inherit\; font-weight: bold\; font-stretch: inherit\; font-size: 20px\; line-height: inherit\; font-family: inherit\; vertical-align: baseline\;">DIGITAL NETWORKING</span><br style="box-sizing: border-box\;" />\nAngel Suarez</p>\n</div>\n</div>\n\n<section class="av_textblock_section " itemscope="itemscope" itemtype="https://schema.org/CreativeWork" style="box-sizing: border-box\; margin: 0px\; padding: 0px\; border: 0px rgb(235\, 235\, 235)\; font-variant-numeric: inherit\; font-variant-east-asian: inherit\; font-stretch: inherit\; font-size: 18px\; line-height: inherit\; font-family: raleway\, HelveticaNeue\, &quot\;Helvetica Neue&quot\;\, Helvetica-Neue\, Helvetica\, Arial\, sans-serif\; vertical-align: baseline\; color: rgb(99\, 99\, 99)\;">\n<div class="avia_textblock  " itemprop="text" style="box-sizing: border-box\; margin: 0px\; padding: 0px\; border: 0px rgb(235\, 235\, 235)\; font-style: inherit\; font-variant: inherit\; font-weight: inherit\; font-stretch: inherit\; font-size: inherit\; line-height: 1.65em\; font-family: inherit\; vertical-align: baseline\; clear: both\;">\n<p style="box-sizing: border-box\; margin: 0.85em 0px\; padding: 0px\; border: 0px rgb(235\, 235\, 235)\; font: inherit\; vertical-align: baseline\;">Today&rsquo\;s world is defined by our social media presence\, both good and bad.&nbsp\; Take some time out of your day to learn how you can shape your digital footprint in the most positive way possible.</p>\n</div>\n</section>\n</div>\n</div>\n
LOCATION:Virtual Meeting - link will be provided via email to registered attendees on Tuesday\, May 26
UID:e.3457.1152
SEQUENCE:3
DTSTAMP:20260420T161428Z
URL:http://bartowchamberfl.chambermaster.com/events/details/virtual-professional-development-academy-digital-networking-1152
END:VEVENT

END:VCALENDAR
