BEGIN:VCALENDAR
VERSION:2.0
PRODID:-//ChamberMaster//Event Calendar 2.0//EN
METHOD:PUBLISH
X-PUBLISHED-TTL:P3D
REFRESH-INTERVAL:P3D
CALSCALE:GREGORIAN
BEGIN:VEVENT
DTSTART:20201212T170000Z
DTEND:20201212T230000Z
X-MICROSOFT-CDO-ALLDAYEVENT:FALSE
SUMMARY:Nutcracker Spectacular at Sun n' Fun
DESCRIPTION:Experience an afternoon of holiday cheer as Florida Dance Theatre presents their first outdoor Nutcracker event! Join Clara\, the Nutcracker Prince and their friends as they share the magic of the season with a spin on this holiday classic. Join Florida Dance Theatre as they present a day of outdoor holiday magic. The Nutcracker Spectacular is a two part event that includes a special one-hour matinee performance of The Nutcracker\, Character Meet & Greets\, food trucks and access to some of Lakeland's amazing vendors during the holiday season. General admission is $15 per person. Children under 5 free!
X-ALT-DESC;FMTTYPE=text/html:Experience an afternoon of holiday cheer as Florida Dance Theatre presents their first outdoor Nutcracker event! Join Clara\, the Nutcracker Prince and their friends as they share the magic of the season with a spin on this holiday classic. Join Florida Dance Theatre as they present a day of outdoor holiday magic. The Nutcracker Spectacular is a two part event that includes a special one-hour matinee performance of The Nutcracker\, Character Meet &amp\; Greets\, food trucks and access to some of Lakeland&#39\;s amazing vendors during the holiday season. General admission is $15 per person. Children under 5 free!
LOCATION:Sun n' Fun- The Skylight Hanger: 4175 Medulla Rd\, Lakeland\, Florida\, 33811
UID:e.3457.1189
SEQUENCE:3
DTSTAMP:20260422T003426Z
URL:http://bartowchamberfl.chambermaster.com/events/details/nutcracker-spectacular-at-sun-n-fun-1189
END:VEVENT

END:VCALENDAR
