BEGIN:VCALENDAR
VERSION:2.0
PRODID:-//ChamberMaster//Event Calendar 2.0//EN
METHOD:PUBLISH
X-PUBLISHED-TTL:P3D
REFRESH-INTERVAL:P3D
CALSCALE:GREGORIAN
BEGIN:VEVENT
DTSTART:20190919T210000Z
DTEND:20190919T233000Z
X-MICROSOFT-CDO-ALLDAYEVENT:FALSE
SUMMARY:Fun Thursday at Bartow Ford
DESCRIPTION:Join us for the Chamber's September Fun Thursday hosted by Bartow Ford. Bartow Ford will feature Chamber networking\, food\, adult beverages\, live music and of course\, fun! Remember to wear your favorite football team's jersey or colors and show your team spirit!\n\n\n\nWe look forward to you joining us! Chamber member event.
X-ALT-DESC;FMTTYPE=text/html:<span style="color: rgb(29\, 33\, 41)\; font-family: Helvetica\, Arial\, sans-serif\; font-size: 14px\; white-space: pre-wrap\;">Join us for the Chamber&#39\;s September Fun Thursday hosted by Bartow Ford. Bartow Ford will feature Chamber networking\, food\, adult beverages\, live music and of course\, fun! Remember to wear your favorite football team&#39\;s jersey or colors and show your team spirit!</span><br style="color: rgb(29\, 33\, 41)\; font-family: Helvetica\, Arial\, sans-serif\; font-size: 14px\; white-space: pre-wrap\;" />\n<br style="color: rgb(29\, 33\, 41)\; font-family: Helvetica\, Arial\, sans-serif\; font-size: 14px\; white-space: pre-wrap\;" />\n<span style="color: rgb(29\, 33\, 41)\; font-family: Helvetica\, Arial\, sans-serif\; font-size: 14px\; white-space: pre-wrap\;">We look forward to you joining us! Chamber member event.</span>
LOCATION:Bartow Ford 2800 US-98\, Bartow
UID:e.3457.472
SEQUENCE:3
DTSTAMP:20260424T172642Z
URL:http://bartowchamberfl.chambermaster.com/events/details/fun-thursday-at-bartow-ford-472
END:VEVENT

END:VCALENDAR
