BEGIN:VCALENDAR
VERSION:2.0
PRODID:-//ChamberMaster//Event Calendar 2.0//EN
METHOD:PUBLISH
X-PUBLISHED-TTL:P3D
REFRESH-INTERVAL:P3D
CALSCALE:GREGORIAN
BEGIN:VEVENT
DTSTART:20211104T210000Z
DTEND:20211104T233000Z
X-MICROSOFT-CDO-ALLDAYEVENT:FALSE
SUMMARY:2021 Bartow Ford Fun Thursday
DESCRIPTION:ATTENTION ALL CHAMBER MEMBERS!\n\nDon't miss the November 4\, 2021 Fun Thursday hosted by Bartow Ford\, starting at 5:00 p.m. Lots of food\, fellowship and of course\, FUN! See you there.
X-ALT-DESC;FMTTYPE=text/html:<em><strong>ATTENTION ALL CHAMBER MEMBERS!</strong></em><br />\nDon&#39\;t miss the November 4\, 2021 Fun Thursday hosted by Bartow Ford\, starting at 5:00 p.m. Lots of food\, fellowship and of course\, FUN! See you there.
LOCATION:Bartow Ford 2800 U.S. 98 N Bartow\, FL 33830
UID:e.3457.2050
SEQUENCE:3
DTSTAMP:20260422T044640Z
URL:http://bartowchamberfl.chambermaster.com/events/details/2021-bartow-ford-fun-thursday-2050
END:VEVENT

END:VCALENDAR
